Workbook
Name DO: 'Foruma Sheet'!$F$80:$G$87
Name First_aid_cases: 'Foruma Sheet'!$D$72:$E$79
Name IRI: 'Foruma Sheet'!$B$88:$C$95
Name lop: OFFSET('Month- Projects'!$A$2,0,0,COUNTA('Month- Projects'!$A:$A)-1,1)
Name LWD: 'Foruma Sheet'!$D$80:$E$87
Name LWDC: 'Foruma Sheet'!$B$96:$C$103
Name manhour: 'Foruma Sheet'!$B$60:$C$70
Name Manpower: 'Foruma Sheet'!$D$60:$E$70
Name month: 'Month- Projects'!$B$1:$B$13
Name MTC: 'Foruma Sheet'!$F$72:$G$79
Name PPD: 'Foruma Sheet'!$D$88:$E$95
Name property_damage: 'Foruma Sheet'!$B$72:$C$79
Name PTD: 'Foruma Sheet'!$F$88:$G$95
Name Quarter: 'Month- Projects'!$C$2:$C$5
Name RWD: 'Foruma Sheet'!$B$80:$C$87
Name safety_induction: 'Foruma Sheet'!$F$60:$G$70
Name TBT: 'Performance monitoring'!$C$1:$D$7

Sheet dashboard
A1: OHS Dashboard
A4: * Establecer un objetivo anual para los KPI en la hoja de datos * No elimine ninguna fórmula en la hoja de datos, solo agregue datos en la sección blanca, la sección resaltada en azul se actualizará automáticamente.
E13: Workforce Status
A27: =Data!A7 -> Comportamientos | E27: =Data!A8 -> Entrenamientos | I27: =Data!A9 -> Reuniones HSE | M27: =Data!A10 -> Inspecciones HSE
A40: =Data!A12 -> Reconocimientos | E40: =Data!A13 -> Auditorias HSE | I40: =Data!A14 -> Alertas de seguridad | M40: =Data!A15 -> Simulacros

Sheet Data
A1: Escriba aquí el nombre de la empresa
A2: Compañía | B2: XYZ | D2: Nombre del proyecto | F2: XYZ | I2: Año de reporte | L2: 2021 | M2: Preparado por | P2: Objetivos
A3: Mes | B3: Jan | C3: Feb | D3: Mar | E3: Apr | F3: May | G3: Jun | H3: Jul | I3: Aug | J3: Sep | K3: Oct | L3: Nov | M3: Dec | N3: YTD | O3: PYTD | P3: Indicador | Q3: Valor
A4: Horas hombre | N4: =SUM(B4:M4) -> 0 | P4: TBT Conducted | Q4: 120
A5: Horas contratistas | N5: =IFERROR(AVERAGE(B5:M5),0) -> 0 | P5: Trainings | Q5: 150
A6: Inducciones de seguridad | N6: =SUM(B6:M6) -> 0 | P6: OHS Meetings | Q6: 123
A7: Comportamientos | B7: 1 | C7: 2 | D7: 2 | M7: 1 | N7: =SUM(B7:M7) -> 6 | P7: OHS Inspections | Q7: 100
A8: Entrenamientos | B8: 2 | L8: 1 | N8: =SUM(B8:M8) -> 3 | P8: OHS Rewards | Q8: 15
A9: Reuniones HSE | C9: 3 | L9: 1 | N9: =SUM(B9:M9) -> 4 | P9: OHS Audits | Q9: 20
A10: Inspecciones HSE | N10: =SUM(B10:M10) -> 0 | P10: Safety Alerts | Q10: 12
A11: Campañas HSE | B11: 1 | C11: 2 | L11: 2 | N11: =SUM(B11:M11) -> 5 | P11: Mock Drill | Q11: 12
A12: Reconocimientos | B12: 1 | C12: 2 | K12: 2 | L12: 2 | N12: =SUM(B12:M12) -> 7
A13: Auditorias HSE | B13: 1 | C13: 2 | K13: 22 | N13: =SUM(B13:M13) -> 25
A14: Alertas de seguridad | D14: 2 | J14: 2 | K14: 2 | N14: =SUM(B14:M14) -> 6
A15: Simulacros | E15: 2 | J15: 2 | N15: =SUM(B15:M15) -> 4
A16: Daños a la propiedad | E16: 2 | H16: 2 | I16: 2 | N16: =SUM(B16:M16) -> 6
A17: Botiquines | F17: 2 | H17: 2 | N17: =SUM(B17:M17) -> 4
A18: Caso de tratamiento médico | F18: 2 | N18: =SUM(B18:M18) -> 2
A19: Días laborales restringidos | N19: =SUM(B19:M19) -> 0
A20: Discapacidades parciales permanentes | N20: =SUM(B20:M20) -> 0
A21: Discapacidades totales permanentes | N21: =SUM(B21:M21) -> 0
A22: Casos de días laborales perdidos | N22: =SUM(B22:M22) -> 0
A23: Días de trabajo perdidos | N23: =SUM(B23:M23) -> 0
A24: Muertes | N24: =SUM(B24:M24) -> 0
A25: Acontecimientos peligrosos | N25: =SUM(B25:M25) -> 0
A26: Lesiones de notificación inmediata | N26: =SUM(B26:M26) -> 0
A27: Tasa de frecuencia de lesiones con tiempo perdido (LTIFR) | B27: =IFERROR(IF(B4=0,0,B22*1000000/B4),"") -> 0 | C27: =IFERROR(IF(C4=0,0,C22*1000000/C4),"") -> 0 | D27: =IFERROR(IF(D4=0,0,D22*1000000/D4),"") -> 0 | E27: =IFERROR(IF(E4=0,0,E22*1000000/E4),"") -> 0 | F27: =IFERROR(IF(F4=0,0,F22*1000000/F4),"") -> 0 | G27: =IFERROR(IF(G4=0,0,G22*1000000/G4),"") -> 0 | H27: =IFERROR(IF(H4=0,0,H22*1000000/H4),"") -> 0 | I27: =IFERROR(IF(I4=0,0,I22*1000000/I4),"") -> 0 | ... N27: =IFERROR(IF(N4=0,0,N22*1000000/N4),"") -> 0
A28: Tasa de gravedad de lesiones con tiempo perdido (LTISR) | B28: =IFERROR(IF(B4=0,0,B23*1000000/B4),"") -> 0 | C28: =IFERROR(IF(C4=0,0,C23*1000000/C4),"") -> 0 | D28: =IFERROR(IF(D4=0,0,D23*1000000/D4),"") -> 0 | E28: =IFERROR(IF(E4=0,0,E23*1000000/E4),"") -> 0 | F28: =IFERROR(IF(F4=0,0,F23*1000000/F4),"") -> 0 | G28: =IFERROR(IF(G4=0,0,G23*1000000/G4),"") -> 0 | H28: =IFERROR(IF(H4=0,0,H23*1000000/H4),"") -> 0 | I28: =IFERROR(IF(I4=0,0,I23*1000000/I4),"") -> 0 | ... N28: =IFERROR(IF(N4=0,0,N23*1000000/N4),"") -> 0
A29: Frecuencia total de casos notificables (TRCF) | B29: =IF(B4=0,0,SUM(B18+B19+B20+B21+B24+B22)*1000000/B4) -> 0 | C29: =IF(C4=0,0,SUM(C18+C19+C20+C21+C24+C22)*1000000/C4) -> 0 | D29: =IF(D4=0,0,SUM(D18+D19+D20+D21+D24+D22)*1000000/D4) -> 0 | E29: =IF(E4=0,0,SUM(E18+E19+E20+E21+E24+E22)*1000000/E4) -> 0 | F29: =IF(F4=0,0,SUM(F18+F19+F20+F21+F24+F22)*1000000/F4) -> 0 | G29: =IF(G4=0,0,SUM(G18+G19+G20+G21+G24+G22)*1000000/G4) -> 0 | H29: =IF(H4=0,0,SUM(H18+H19+H20+H21+H24+H22)*1000000/H4) -> 0 | I29: =IF(I4=0,0,SUM(I18+I19+I20+I21+I24+I22)*1000000/I4) -> 0 | ... M29: =IF(M4=0,0,SUM(M18+M19+M20+M21+M24+M22)*1000000/M4) -> 0 | N29: =IFERROR(IF(N4=0,0,SUM(N18+N19+N20+N21+N22+N23+N25)*1000000/N4),"") -> 0
A30: Tasa de frecuencia de accidentes fatales (FAFR) | B30: =IF(B4=0,0,B24*1000000/B4) -> 0 | C30: =IF(C4=0,0,C24*1000000/C4) -> 0 | D30: =IF(D4=0,0,D24*1000000/D4) -> 0 | E30: =IF(E4=0,0,E24*1000000/E4) -> 0 | F30: =IF(F4=0,0,F24*1000000/F4) -> 0 | G30: =IF(G4=0,0,G24*1000000/G4) -> 0 | H30: =IF(H4=0,0,H24*1000000/H4) -> 0 | I30: =IF(I4=0,0,I24*1000000/I4) -> 0 | ... N30: =IF(N4=0,0,N24*1000000/N4) -> 0
A31: * Frecuencia calculada en base a 1 millón de horas-hombre
A32: * No elimine ninguna fórmula en el área resaltada en azul

Sheet Month- Projects
A1: Projects | B1: Month | C1: Quarter | D1: Jan | E1: Feb | F1: Mar | G1: Apr | H1: May | I1: Jun | J1: Jul | K1: Aug | L1: Sep | M1: Oct | N1: Nov | O1: Dec
A2: Site 1 | B2: Jan | C2: Quarter 1
A3: Site 2 | B3: Feb | C3: Quarter 2
A4: Site 3 | B4: Mar | C4: Quarter 3
A5: Site 4 | B5: Apr | C5: Quarter 4
A6: Site 5 | B6: May
A7: Site 6 | B7: Jun
A8: Site 7 | B8: Jul
A9: Site 8 | B9: Aug
A10: Site 9 | B10: Sep
A11: Site 10 | B11: Oct
A12: Site 11 | B12: Nov
A13: Site 12 | B13: Dec

Sheet Foruma Sheet
B1: =MATCH(Data!B2,'Foruma Sheet'!3:3,0) -> #N/A
B2: ='Month- Projects'!D1&Data!$L$2 -> Jan2021 | C2: ='Month- Projects'!E1&Data!$L$2 -> Feb2021 | D2: ='Month- Projects'!F1&Data!$L$2 -> Mar2021 | E2: ='Month- Projects'!G1&Data!$L$2 -> Apr2021 | F2: ='Month- Projects'!H1&Data!$L$2 -> May2021 | G2: ='Month- Projects'!I1&Data!$L$2 -> Jun2021 | H2: ='Month- Projects'!J1&Data!$L$2 -> Jul2021 | I2: ='Month- Projects'!K1&Data!$L$2 -> Aug2021 | ... M2: ='Month- Projects'!O1&Data!$L$2 -> Dec2021 | N2: ="YTD"&Data!L2 -> YTD2021
B3: Site 1 | C3: Site 1 | D3: Site 1 | E3: Site 1 | F3: Site 1 | G3: Site 1 | H3: Site 1 | I3: Site 1 | J3: Site 1 | K3: Site 1 | L3: Site 1 | M3: Site 1 | N3: Site 1
A4: Manhours
A5: Manpower
A6: Safety inductions
A7: TBT conducted
A8: Trainings
A9: OHS Meetings
A10: OHS Inspections
A11: OHS Campaigns
A12: OHS Rewards
A13: OHS Audits
A14: Safety Alerts
A15: Mock Drill
... A31: YTD Rolling (LTIFR)
B32: =B2 -> Jan2021 | C32: =C2 -> Feb2021 | D32: =D2 -> Mar2021 | E32: =E2 -> Apr2021 | F32: =F2 -> May2021 | G32: =G2 -> Jun2021 | H32: =H2 -> Jul2021 | I32: =I2 -> Aug2021 | ... N32: =N2 -> YTD2021
A33: Manhours | B33: =Data!B4 -> 0 | C33: =Data!C4 -> 0 | D33: =Data!D4 -> 0 | E33: =Data!E4 -> 0 | F33: =Data!F4 -> 0 | G33: =Data!G4 -> 0 | H33: =Data!H4 -> 0 | I33: =Data!I4 -> 0 | ... N33: =Data!N4 -> 0
A34: Manpower | B34: =Data!B5 -> 0 | C34: =Data!C5 -> 0 | D34: =Data!D5 -> 0 | E34: =Data!E5 -> 0 | F34: =Data!F5 -> 0 | G34: =Data!G5 -> 0 | H34: =Data!H5 -> 0 | I34: =Data!I5 -> 0 | ... N34: =Data!N5 -> 0
A35: Safety inductions | B35: =Data!B6 -> 0 | C35: =Data!C6 -> 0 | D35: =Data!D6 -> 0 | E35: =Data!E6 -> 0 | F35: =Data!F6 -> 0 | G35: =Data!G6 -> 0 | H35: =Data!H6 -> 0 | I35: =Data!I6 -> 0 | ... N35: =Data!N6 -> 0
A36: TBT conducted | B36: =Data!B7 -> 1 | C36: =Data!C7 -> 2 | D36: =Data!D7 -> 2 | E36: =Data!E7 -> 0 | F36: =Data!F7 -> 0 | G36: =Data!G7 -> 0 | H36: =Data!H7 -> 0 | I36: =Data!I7 -> 0 | ... N36: =Data!N7 -> 6
A37: Trainings | B37: =Data!B8 -> 2 | C37: =Data!C8 -> 0 | D37: =Data!D8 -> 0 | E37: =Data!E8 -> 0 | F37: =Data!F8 -> 0 | G37: =Data!G8 -> 0 | H37: =Data!H8 -> 0 | I37: =Data!I8 -> 0 | ... N37: =Data!N8 -> 3
A38: OHS Meetings | B38: =Data!B9 -> 0 | C38: =Data!C9 -> 3 | D38: =Data!D9 -> 0 | E38: =Data!E9 -> 0 | F38: =Data!F9 -> 0 | G38: =Data!G9 -> 0 | H38: =Data!H9 -> 0 | I38: =Data!I9 -> 0 | ... N38: =Data!N9 -> 4
A39: OHS Inspections | B39: =Data!B10 -> 0 | C39: =Data!C10 -> 0 | D39: =Data!D10 -> 0 | E39: =Data!E10 -> 0 | F39: =Data!F10 -> 0 | G39: =Data!G10 -> 0 | H39: =Data!H10 -> 0 | I39: =Data!I10 -> 0 | ... N39: =Data!N10 -> 0
A40: OHS Campaigns | B40: =Data!B11 -> 1 | C40: =Data!C11 -> 2 | D40: =Data!D11 -> 0 | E40: =Data!E11 -> 0 | F40: =Data!F11 -> 0 | G40: =Data!G11 -> 0 | H40: =Data!H11 -> 0 | I40: =Data!I11 -> 0 | ... N40: =Data!N11 -> 5
A41: OHS Rewards | B41: =Data!B12 -> 1 | C41: =Data!C12 -> 2 | D41: =Data!D12 -> 0 | E41: =Data!E12 -> 0 | F41: =Data!F12 -> 0 | G41: =Data!G12 -> 0 | H41: =Data!H12 -> 0 | I41: =Data!I12 -> 0 | ... N41: =Data!N12 -> 7
A42: OHS Audits | B42: =Data!B13 -> 1 | C42: =Data!C13 -> 2 | D42: =Data!D13 -> 0 | E42: =Data!E13 -> 0 | F42: =Data!F13 -> 0 | G42: =Data!G13 -> 0 | H42: =Data!H13 -> 0 | I42: =Data!I13 -> 0 | ... N42: =Data!N13 -> 25
A43: Safety Alerts | B43: =Data!B14 -> 0 | C43: =Data!C14 -> 0 | D43: =Data!D14 -> 2 | E43: =Data!E14 -> 0 | F43: =Data!F14 -> 0 | G43: =Data!G14 -> 0 | H43: =Data!H14 -> 0 | I43: =Data!I14 -> 0 | ... N43: =Data!N14 -> 6
A44: Mock Drill | B44: =Data!B15 -> 0 | C44: =Data!C15 -> 0 | D44: =Data!D15 -> 0 | E44: =Data!E15 -> 2 | F44: =Data!F15 -> 0 | G44: =Data!G15 -> 0 | H44: =Data!H15 -> 0 | I44: =Data!I15 -> 0 | ... N44: =Data!N15 -> 4
... A59: Fatal Accident Frequency Rate (FAFR) | B59: =Data!B30 -> 0 | C59: =Data!C30 -> 0 | D59: =Data!D30 -> 0 | E59: =Data!E30 -> 0 | F59: =Data!F30 -> 0 | G59: =Data!G30 -> 0 | H59: =Data!H30 -> 0 | I59: =Data!I30 -> 0 | ... N59: =Data!N30 -> 0
D96: Lost Time Injury Frequency Rate (LTIFR) | F96: =N56 -> 0
D97: Lost Time Injury Severity Rate (LTISR) | F97: =N57 -> 0
D98: Total Reportable Case Frequency (TRCF) | F98: =N58 -> 0
D99: Fatal Accident Frequency Rate (FAFR) | F99: =N59 -> 0
C103: =LWDCC -> #NAME?

Sheet Performance monitoring
A1: Actual Value | B1: ='Foruma Sheet'!N36 -> 6
A2: Target | B2: =Data!Q4 -> 120
A8: =Data!A7 -> Comportamientos
A11: Actual Value | B11: ='Foruma Sheet'!N37 -> 3
A12: Target | B12: =Data!Q5 -> 150
B13: =Data!A8 -> Entrenamientos
G14: Value | J14: x | K14: y
F15: Actual | G15: =B11 -> 3 | J15: =G15 -> 3 | K15: =G16-G15 -> 147
F16: Max | G16: =B12 -> 150
F17: Percent | G17: =G15/G16 -> 0.02
A23: Actual Value | B23: ='Foruma Sheet'!N38 -> 4
A24: Target | B24: =Data!Q6 -> 123
B25: =Data!A9 -> Reuniones HSE
G26: Value | J26: x | K26: y
F27: Actual | G27: =B23 -> 4 | J27: =G27 -> 4 | K27: =G28-G27 -> 119
F28: Max | G28: =B24 -> 123
F29: Percent | G29: =G27/G28 -> 0.032520325
A30: Actual Value | B30: ='Foruma Sheet'!N39 -> 0
A31: Target | B31: =Data!Q7 -> 100
B32: =Data!A10 -> Inspecciones HSE
G33: Value | J33: x | K33: y
F34: Actual | G34: =B30 -> 0 | J34: =G34 -> 0 | K34: =G35-G34 -> 100
F35: Max | G35: =B31 -> 100
F36: Percent | G36: =G34/G35 -> 0
A38: Actual Value | B38: ='Foruma Sheet'!N41 -> 7
A39: Target | B39: =Data!Q8 -> 15
B40: =Data!A12 -> Reconocimientos
G41: Value | J41: x | K41: y
F42: Actual | G42: =B38 -> 7 | J42: =G42 -> 7 | K42: =G43-G42 -> 8
F43: Max | G43: =B39 -> 15
F44: Percent | G44: =G42/G43 -> 0.46666667
A45: Actual Value | B45: ='Foruma Sheet'!N42 -> 25
A46: Target | B46: =Data!Q9 -> 20
B47: =Data!A13 -> Auditorias HSE
G48: Value | J48: x | K48: y
F49: Actual | G49: =B45 -> 25 | J49: =G49 -> 25 | K49: =G50-G49 -> -5
F50: Max | G50: =B46 -> 20
F51: Percent | G51: =G49/G50 -> 1.25
A52: Actual Value | B52: ='Foruma Sheet'!N43 -> 6
A53: Target | B53: =Data!Q10 -> 12
...

Sheet calc
D4: Value | G4: x | H4: y
C5: Actual | D5: ='Foruma Sheet'!N36 -> 6 | G5: =D5 -> 6 | H5: =D6-D5 -> 114
C6: Max | D6: ='Performance monitoring'!B2 -> 120
C7: Percent | D7: =D5/D6 -> 0.05
